BEGIN:VCALENDAR
VERSION:2.0
PRODID:-//Calendario Series Boys Love - ECPv6.15.16//NONSGML v1.0//EN
CALSCALE:GREGORIAN
METHOD:PUBLISH
X-ORIGINAL-URL:https://calendario.seriesboyslove.es
X-WR-CALDESC:Eventos para Calendario Series Boys Love
REFRESH-INTERVAL;VALUE=DURATION:PT1H
X-Robots-Tag:noindex
X-PUBLISHED-TTL:PT1H
BEGIN:VTIMEZONE
TZID:Europe/Madrid
BEGIN:DAYLIGHT
TZOFFSETFROM:+0100
TZOFFSETTO:+0200
TZNAME:CEST
DTSTART:20250330T010000
END:DAYLIGHT
BEGIN:STANDARD
TZOFFSETFROM:+0200
TZOFFSETTO:+0100
TZNAME:CET
DTSTART:20251026T010000
END:STANDARD
BEGIN:DAYLIGHT
TZOFFSETFROM:+0100
TZOFFSETTO:+0200
TZNAME:CEST
DTSTART:20260329T010000
END:DAYLIGHT
BEGIN:STANDARD
TZOFFSETFROM:+0200
TZOFFSETTO:+0100
TZNAME:CET
DTSTART:20261025T010000
END:STANDARD
BEGIN:DAYLIGHT
TZOFFSETFROM:+0100
TZOFFSETTO:+0200
TZNAME:CEST
DTSTART:20270328T010000
END:DAYLIGHT
BEGIN:STANDARD
TZOFFSETFROM:+0200
TZOFFSETTO:+0100
TZNAME:CET
DTSTART:20271031T010000
END:STANDARD
END:VTIMEZONE
BEGIN:VEVENT
DTSTART;TZID=Europe/Madrid:20260619T000000
DTEND;TZID=Europe/Madrid:20260619T000000
DTSTAMP:20260423T011808
CREATED:20260422T164238Z
LAST-MODIFIED:20260422T164238Z
UID:3008-1781827200-1781827200@calendario.seriesboyslove.es
SUMMARY:Fake Fact Lips EP9
DESCRIPTION:Nombre: Fake Fact Lips\nTipo: Drama\nFormat: Standard Series\nPaís: Japón\nEpisodios: 10\nAirs: abr 24\, 2026 – ?\nAirs On: Viernes\nDuración: 30 min.\nClasificación del contenido: Sin calificar\n\nRyo y Zen han sido rivales desde el instituto. Ahora se han reunido como compañeros de trabajo tras incorporarse al departamento de ventas de la misma empresa al mismo tiempo. Desde las notas y los deportes hasta la cantidad de chocolates de San Valentín que recibieron\, los dos han pasado años compitiendo por todo. Volver a encontrarse en el trabajo reaviva su antigua rivalidad\, y sus vidas diarias se convierten rápidamente en una serie de nuevos desafíos. \nUna noche\, tras otra derrota\, Zen acaba bebiendo con Ryo\, y su conversación gira en torno a su falta de experiencia romántica. Lo que empezó como una broma juguetona pronto se convierte en otra competición ridícula. Su terco orgullo se niega a defraudar a ninguno de los dos\, lo que lleva a una apuesta inesperada: quien haga que el otro se enamore primero\, gana. Así comienza la rivalidad amorosa más ridícula de sus vidas. \nDos adultos capaces que destacan en el trabajo pero son un desastre en el romance se ven atrapados en una torpe y competitiva batalla amorosa. Pero al final… ¿Quién caerá primero?
URL:https://calendario.seriesboyslove.es/event/fake-fact-lips-ep1-7/
ATTACH;FMTTYPE=image/jpeg:https://calendario.seriesboyslove.es/wp-content/uploads/2026/04/Fake-Fact-Lips.jpeg
END:VEVENT
BEGIN:VEVENT
DTSTART;TZID=Europe/Madrid:20260620T000000
DTEND;TZID=Europe/Madrid:20260620T000000
DTSTAMP:20260423T011808
CREATED:20260331T225022Z
LAST-MODIFIED:20260331T225022Z
UID:2979-1781913600-1781913600@calendario.seriesboyslove.es
SUMMARY:Flower Boy EP9
DESCRIPTION:Nombre: Flower Boy\nTipo: Drama\nFormat: Standard Series\nPaís: Tailandia\nEpisodios: 10\nAirs: abr 25\, 2026 – ?\nAirs On: Sábado\nOriginal Network: One 31\, oneD\nClasificación del contenido: Sin calificar\n\nCuando esa cualidad única se convierte en el deseo de otra persona… \nAtrapados entre la supervivencia y el desarrollo gradual de los sentimientos\,\n¿florecerá este amor o será arrancado prematuramente?
URL:https://calendario.seriesboyslove.es/event/flower-boy-ep1-7/
ATTACH;FMTTYPE=image/jpeg:https://calendario.seriesboyslove.es/wp-content/uploads/2026/04/Flower-Boy.jpg
END:VEVENT
BEGIN:VEVENT
DTSTART;TZID=Europe/Madrid:20260620T000000
DTEND;TZID=Europe/Madrid:20260620T000000
DTSTAMP:20260423T011808
CREATED:20260422T170006Z
LAST-MODIFIED:20260422T170006Z
UID:3061-1781913600-1781913600@calendario.seriesboyslove.es
SUMMARY:CrazyLove-MooMoo EP7
DESCRIPTION:Nombre: CrazyLove-MooMoo\nTipo: Drama\nFormat: Standard Series\nPaís: Tailandia\nEpisodios: 10\nAirs: may 9\, 2026 – jul 11\, 2026\nAirs On: Sábado\nClasificación del contenido: Sin calificar\n\nCuando el encantador y carismático Hia Fu intenta conquistar a MooMoo\, que anhela una vida normal\, se encuentra constantemente rodeado de las divertidas y traviesas travesuras de Hia Fu. ¿Qué trucos usará este enamorado Hia Fu para ganarse el corazón de MooMoo?
URL:https://calendario.seriesboyslove.es/event/crazylove-moomoo-ep1-5/
ATTACH;FMTTYPE=image/jpeg:https://calendario.seriesboyslove.es/wp-content/uploads/2026/04/CrazyLove-MooMoo.jpeg
END:VEVENT
BEGIN:VEVENT
DTSTART;TZID=Europe/Madrid:20260623T000000
DTEND;TZID=Europe/Madrid:20260623T000000
DTSTAMP:20260423T011808
CREATED:20260301T131410Z
LAST-MODIFIED:20260301T131411Z
UID:2677-1782172800-1782172800@calendario.seriesboyslove.es
SUMMARY:Magic Move EP10 Final
DESCRIPTION:Nombre: Magic Move\nTipo: Drama\nFormat: Standard Series\nPaís: Tailandia\nEpisodios: 10\nAirs: abr 21\, 2026 – ?\nAirs On: Martes\nClasificación del contenido: Sin calificar\n\nCuando un estudiante de arquitectura en su último año se convierte accidentalmente en un famoso adivino universitario\, finge revelar que fue el compañero de barco de la infancia del joven heredero de una fortuna inmobiliaria. Aunque su relación comienza con una mentira\, se convierte en un amor genuino. \nAl mismo tiempo\, un joven recién salido de un intento fallido de convertirse en estrella en Corea regresa en busca de su antiguo compañero de barco\, que resulta ser un heredero inmobiliario en particular.
URL:https://calendario.seriesboyslove.es/event/magic-move-ep1-8/
ATTACH;FMTTYPE=image/jpeg:https://calendario.seriesboyslove.es/wp-content/uploads/2026/03/Magic-Move.jpeg
END:VEVENT
BEGIN:VEVENT
DTSTART;TZID=Europe/Madrid:20260623T000000
DTEND;TZID=Europe/Madrid:20260623T000000
DTSTAMP:20260423T011808
CREATED:20260422T165446Z
LAST-MODIFIED:20260422T165447Z
UID:3045-1782172800-1782172800@calendario.seriesboyslove.es
SUMMARY:Wu EP8 Final
DESCRIPTION:Nombre: Wu\nTipo: Drama\nFormat: Standard Series\nPaís: Tailandia\nEpisodios: 8\nAirs: may 5\, 2026 – ?\nAirs On: Martes\nOriginal Network: GMM 25\nClasificación del contenido: Sin calificar\n\nPete\, un joven desafortunado que lleva consigo el fragmento del alma de un demonio\, tiene la capacidad de sentir a los Yao: energías extrañas que devoran la fuerza vital de las personas. Cuando se cruza con Niran\, un hombre dotado con la rara habilidad de alterar el destino y quien lo guía hacia el mundo de Wu\, ambos se convierten en aliados improbables. Forzados a confiar el uno en el otro ante cada obstáculo\, sus almas terminarán entrelazadas.
URL:https://calendario.seriesboyslove.es/event/wu-ep1-6/
ATTACH;FMTTYPE=image/jpeg:https://calendario.seriesboyslove.es/wp-content/uploads/2026/04/Wu.jpeg
END:VEVENT
BEGIN:VEVENT
DTSTART;TZID=Europe/Madrid:20260626T000000
DTEND;TZID=Europe/Madrid:20260626T000000
DTSTAMP:20260423T011808
CREATED:20260331T221138Z
LAST-MODIFIED:20260331T221138Z
UID:2955-1782432000-1782432000@calendario.seriesboyslove.es
SUMMARY:Love of Silom EP10
DESCRIPTION:Nombre: Love of Silom\nTipo: Drama\nFormat: Standard Series\nPaís: Tailandia\nEpisodios: 12\nAirs: abr 24\, 2026 – jul 10\, 2026\nAirs On: Viernes\nOriginal Network: WeTV\nDuración: 45 min.\nClasificación del contenido: Sin calificar\n\nKrit es un joven y apuesto policía de una familia de ascendencia china. Es profundamente filial. Exteriormente\, cumple con los deseos de su padre matriculándose en la Academia de Policía\, siguiendo los pasos de su padre como oficial superior en la Oficina Nacional de Policía. Sin embargo\, Krit nunca quiso realmente convertirse en policía. \nSu familia se opone firmemente a las relaciones entre personas del mismo sexo\, y su padre amenaza con hacerle daño si saliera con un hombre. Como resultado\, Krit mantiene en secreto su relación con su novio. A pesar de ello\, su amor sigue siendo fuerte. Krit se esfuerza por apoyar el sueño de su novio de convertirse en idol\, pero tras triunfar\, abandona cruelmente a Krit. Desconsolado\, Krit se vuelve frío y desinteresado en el amor. \nWayu es un estudiante cargado con graves problemas familiares. Descuidado por sus padres\, cuida de su hermana pequeña\, que luego huye tras tener un bebé y dejarlo con Wayu. Obligado a asumir la responsabilidad\, Wayu empieza a trabajar en una discoteca. Un día\, durante un altercado con un cliente\, Krit acude en su rescate\, marcando el inicio de su relación. \nPor primera vez\, Wayu siente calidez y admiración por Krit y hace frecuentes visitas a la comisaría con determinación. Krit\, al principio\, mira a Wayu con indiferencia. Sin embargo\, con el tiempo\, empieza a animar a Wayu en sus dificultades\, lo que lleva a lazos más profundos y a la comodidad mutua.
URL:https://calendario.seriesboyslove.es/event/love-of-silom-ep1-8/
ATTACH;FMTTYPE=image/jpeg:https://calendario.seriesboyslove.es/wp-content/uploads/2026/03/Love-of-Silom.jpg
END:VEVENT
BEGIN:VEVENT
DTSTART;TZID=Europe/Madrid:20260626T000000
DTEND;TZID=Europe/Madrid:20260626T000000
DTSTAMP:20260423T011808
CREATED:20260422T164249Z
LAST-MODIFIED:20260422T164249Z
UID:3009-1782432000-1782432000@calendario.seriesboyslove.es
SUMMARY:Fake Fact Lips EP10 Final
DESCRIPTION:Nombre: Fake Fact Lips\nTipo: Drama\nFormat: Standard Series\nPaís: Japón\nEpisodios: 10\nAirs: abr 24\, 2026 – ?\nAirs On: Viernes\nDuración: 30 min.\nClasificación del contenido: Sin calificar\n\nRyo y Zen han sido rivales desde el instituto. Ahora se han reunido como compañeros de trabajo tras incorporarse al departamento de ventas de la misma empresa al mismo tiempo. Desde las notas y los deportes hasta la cantidad de chocolates de San Valentín que recibieron\, los dos han pasado años compitiendo por todo. Volver a encontrarse en el trabajo reaviva su antigua rivalidad\, y sus vidas diarias se convierten rápidamente en una serie de nuevos desafíos. \nUna noche\, tras otra derrota\, Zen acaba bebiendo con Ryo\, y su conversación gira en torno a su falta de experiencia romántica. Lo que empezó como una broma juguetona pronto se convierte en otra competición ridícula. Su terco orgullo se niega a defraudar a ninguno de los dos\, lo que lleva a una apuesta inesperada: quien haga que el otro se enamore primero\, gana. Así comienza la rivalidad amorosa más ridícula de sus vidas. \nDos adultos capaces que destacan en el trabajo pero son un desastre en el romance se ven atrapados en una torpe y competitiva batalla amorosa. Pero al final… ¿Quién caerá primero?
URL:https://calendario.seriesboyslove.es/event/fake-fact-lips-ep1-8/
ATTACH;FMTTYPE=image/jpeg:https://calendario.seriesboyslove.es/wp-content/uploads/2026/04/Fake-Fact-Lips.jpeg
END:VEVENT
BEGIN:VEVENT
DTSTART;TZID=Europe/Madrid:20260627T000000
DTEND;TZID=Europe/Madrid:20260627T000000
DTSTAMP:20260423T011808
CREATED:20260331T225035Z
LAST-MODIFIED:20260331T225035Z
UID:2980-1782518400-1782518400@calendario.seriesboyslove.es
SUMMARY:Flower Boy EP10 Final
DESCRIPTION:Nombre: Flower Boy\nTipo: Drama\nFormat: Standard Series\nPaís: Tailandia\nEpisodios: 10\nAirs: abr 25\, 2026 – ?\nAirs On: Sábado\nOriginal Network: One 31\, oneD\nClasificación del contenido: Sin calificar\n\nCuando esa cualidad única se convierte en el deseo de otra persona… \nAtrapados entre la supervivencia y el desarrollo gradual de los sentimientos\,\n¿florecerá este amor o será arrancado prematuramente?
URL:https://calendario.seriesboyslove.es/event/flower-boy-ep1-8/
ATTACH;FMTTYPE=image/jpeg:https://calendario.seriesboyslove.es/wp-content/uploads/2026/04/Flower-Boy.jpg
END:VEVENT
BEGIN:VEVENT
DTSTART;TZID=Europe/Madrid:20260627T000000
DTEND;TZID=Europe/Madrid:20260627T000000
DTSTAMP:20260423T011808
CREATED:20260422T170020Z
LAST-MODIFIED:20260422T170020Z
UID:3062-1782518400-1782518400@calendario.seriesboyslove.es
SUMMARY:CrazyLove-MooMoo EP8
DESCRIPTION:Nombre: CrazyLove-MooMoo\nTipo: Drama\nFormat: Standard Series\nPaís: Tailandia\nEpisodios: 10\nAirs: may 9\, 2026 – jul 11\, 2026\nAirs On: Sábado\nClasificación del contenido: Sin calificar\n\nCuando el encantador y carismático Hia Fu intenta conquistar a MooMoo\, que anhela una vida normal\, se encuentra constantemente rodeado de las divertidas y traviesas travesuras de Hia Fu. ¿Qué trucos usará este enamorado Hia Fu para ganarse el corazón de MooMoo?
URL:https://calendario.seriesboyslove.es/event/crazylove-moomoo-ep1-6/
ATTACH;FMTTYPE=image/jpeg:https://calendario.seriesboyslove.es/wp-content/uploads/2026/04/CrazyLove-MooMoo.jpeg
END:VEVENT
BEGIN:VEVENT
DTSTART;TZID=Europe/Madrid:20260703T000000
DTEND;TZID=Europe/Madrid:20260703T000000
DTSTAMP:20260423T011808
CREATED:20260331T221152Z
LAST-MODIFIED:20260331T221152Z
UID:2956-1783036800-1783036800@calendario.seriesboyslove.es
SUMMARY:Love of Silom EP11
DESCRIPTION:Nombre: Love of Silom\nTipo: Drama\nFormat: Standard Series\nPaís: Tailandia\nEpisodios: 12\nAirs: abr 24\, 2026 – jul 10\, 2026\nAirs On: Viernes\nOriginal Network: WeTV\nDuración: 45 min.\nClasificación del contenido: Sin calificar\n\nKrit es un joven y apuesto policía de una familia de ascendencia china. Es profundamente filial. Exteriormente\, cumple con los deseos de su padre matriculándose en la Academia de Policía\, siguiendo los pasos de su padre como oficial superior en la Oficina Nacional de Policía. Sin embargo\, Krit nunca quiso realmente convertirse en policía. \nSu familia se opone firmemente a las relaciones entre personas del mismo sexo\, y su padre amenaza con hacerle daño si saliera con un hombre. Como resultado\, Krit mantiene en secreto su relación con su novio. A pesar de ello\, su amor sigue siendo fuerte. Krit se esfuerza por apoyar el sueño de su novio de convertirse en idol\, pero tras triunfar\, abandona cruelmente a Krit. Desconsolado\, Krit se vuelve frío y desinteresado en el amor. \nWayu es un estudiante cargado con graves problemas familiares. Descuidado por sus padres\, cuida de su hermana pequeña\, que luego huye tras tener un bebé y dejarlo con Wayu. Obligado a asumir la responsabilidad\, Wayu empieza a trabajar en una discoteca. Un día\, durante un altercado con un cliente\, Krit acude en su rescate\, marcando el inicio de su relación. \nPor primera vez\, Wayu siente calidez y admiración por Krit y hace frecuentes visitas a la comisaría con determinación. Krit\, al principio\, mira a Wayu con indiferencia. Sin embargo\, con el tiempo\, empieza a animar a Wayu en sus dificultades\, lo que lleva a lazos más profundos y a la comodidad mutua.
URL:https://calendario.seriesboyslove.es/event/love-of-silom-ep1-9/
ATTACH;FMTTYPE=image/jpeg:https://calendario.seriesboyslove.es/wp-content/uploads/2026/03/Love-of-Silom.jpg
END:VEVENT
BEGIN:VEVENT
DTSTART;TZID=Europe/Madrid:20260704T000000
DTEND;TZID=Europe/Madrid:20260704T000000
DTSTAMP:20260423T011808
CREATED:20260422T170032Z
LAST-MODIFIED:20260422T170032Z
UID:3063-1783123200-1783123200@calendario.seriesboyslove.es
SUMMARY:CrazyLove-MooMoo EP9
DESCRIPTION:Nombre: CrazyLove-MooMoo\nTipo: Drama\nFormat: Standard Series\nPaís: Tailandia\nEpisodios: 10\nAirs: may 9\, 2026 – jul 11\, 2026\nAirs On: Sábado\nClasificación del contenido: Sin calificar\n\nCuando el encantador y carismático Hia Fu intenta conquistar a MooMoo\, que anhela una vida normal\, se encuentra constantemente rodeado de las divertidas y traviesas travesuras de Hia Fu. ¿Qué trucos usará este enamorado Hia Fu para ganarse el corazón de MooMoo?
URL:https://calendario.seriesboyslove.es/event/crazylove-moomoo-ep1-7/
ATTACH;FMTTYPE=image/jpeg:https://calendario.seriesboyslove.es/wp-content/uploads/2026/04/CrazyLove-MooMoo.jpeg
END:VEVENT
BEGIN:VEVENT
DTSTART;TZID=Europe/Madrid:20260710T000000
DTEND;TZID=Europe/Madrid:20260710T000000
DTSTAMP:20260423T011808
CREATED:20260331T221212Z
LAST-MODIFIED:20260331T221212Z
UID:2957-1783641600-1783641600@calendario.seriesboyslove.es
SUMMARY:Love of Silom EP12 Final
DESCRIPTION:Nombre: Love of Silom\nTipo: Drama\nFormat: Standard Series\nPaís: Tailandia\nEpisodios: 12\nAirs: abr 24\, 2026 – jul 10\, 2026\nAirs On: Viernes\nOriginal Network: WeTV\nDuración: 45 min.\nClasificación del contenido: Sin calificar\n\nKrit es un joven y apuesto policía de una familia de ascendencia china. Es profundamente filial. Exteriormente\, cumple con los deseos de su padre matriculándose en la Academia de Policía\, siguiendo los pasos de su padre como oficial superior en la Oficina Nacional de Policía. Sin embargo\, Krit nunca quiso realmente convertirse en policía. \nSu familia se opone firmemente a las relaciones entre personas del mismo sexo\, y su padre amenaza con hacerle daño si saliera con un hombre. Como resultado\, Krit mantiene en secreto su relación con su novio. A pesar de ello\, su amor sigue siendo fuerte. Krit se esfuerza por apoyar el sueño de su novio de convertirse en idol\, pero tras triunfar\, abandona cruelmente a Krit. Desconsolado\, Krit se vuelve frío y desinteresado en el amor. \nWayu es un estudiante cargado con graves problemas familiares. Descuidado por sus padres\, cuida de su hermana pequeña\, que luego huye tras tener un bebé y dejarlo con Wayu. Obligado a asumir la responsabilidad\, Wayu empieza a trabajar en una discoteca. Un día\, durante un altercado con un cliente\, Krit acude en su rescate\, marcando el inicio de su relación. \nPor primera vez\, Wayu siente calidez y admiración por Krit y hace frecuentes visitas a la comisaría con determinación. Krit\, al principio\, mira a Wayu con indiferencia. Sin embargo\, con el tiempo\, empieza a animar a Wayu en sus dificultades\, lo que lleva a lazos más profundos y a la comodidad mutua.
URL:https://calendario.seriesboyslove.es/event/love-of-silom-ep1-10/
ATTACH;FMTTYPE=image/jpeg:https://calendario.seriesboyslove.es/wp-content/uploads/2026/03/Love-of-Silom.jpg
END:VEVENT
BEGIN:VEVENT
DTSTART;TZID=Europe/Madrid:20260711T000000
DTEND;TZID=Europe/Madrid:20260711T000000
DTSTAMP:20260423T011808
CREATED:20260422T170102Z
LAST-MODIFIED:20260422T170102Z
UID:3064-1783728000-1783728000@calendario.seriesboyslove.es
SUMMARY:CrazyLove-MooMoo EP10 Final
DESCRIPTION:Nombre: CrazyLove-MooMoo\nTipo: Drama\nFormat: Standard Series\nPaís: Tailandia\nEpisodios: 10\nAirs: may 9\, 2026 – jul 11\, 2026\nAirs On: Sábado\nClasificación del contenido: Sin calificar\n\nCuando el encantador y carismático Hia Fu intenta conquistar a MooMoo\, que anhela una vida normal\, se encuentra constantemente rodeado de las divertidas y traviesas travesuras de Hia Fu. ¿Qué trucos usará este enamorado Hia Fu para ganarse el corazón de MooMoo?
URL:https://calendario.seriesboyslove.es/event/crazylove-moomoo-ep1-8/
ATTACH;FMTTYPE=image/jpeg:https://calendario.seriesboyslove.es/wp-content/uploads/2026/04/CrazyLove-MooMoo.jpeg
END:VEVENT
END:VCALENDAR