BEGIN:VCALENDAR
VERSION:2.0
PRODID:-//Calendario Series Boys Love - ECPv6.15.16//NONSGML v1.0//EN
CALSCALE:GREGORIAN
METHOD:PUBLISH
X-WR-CALNAME:Calendario Series Boys Love
X-ORIGINAL-URL:https://calendario.seriesboyslove.es
X-WR-CALDESC:Eventos para Calendario Series Boys Love
REFRESH-INTERVAL;VALUE=DURATION:PT1H
X-Robots-Tag:noindex
X-PUBLISHED-TTL:PT1H
BEGIN:VTIMEZONE
TZID:Europe/Madrid
BEGIN:DAYLIGHT
TZOFFSETFROM:+0100
TZOFFSETTO:+0200
TZNAME:CEST
DTSTART:20250330T010000
END:DAYLIGHT
BEGIN:STANDARD
TZOFFSETFROM:+0200
TZOFFSETTO:+0100
TZNAME:CET
DTSTART:20251026T010000
END:STANDARD
BEGIN:DAYLIGHT
TZOFFSETFROM:+0100
TZOFFSETTO:+0200
TZNAME:CEST
DTSTART:20260329T010000
END:DAYLIGHT
BEGIN:STANDARD
TZOFFSETFROM:+0200
TZOFFSETTO:+0100
TZNAME:CET
DTSTART:20261025T010000
END:STANDARD
BEGIN:DAYLIGHT
TZOFFSETFROM:+0100
TZOFFSETTO:+0200
TZNAME:CEST
DTSTART:20270328T010000
END:DAYLIGHT
BEGIN:STANDARD
TZOFFSETFROM:+0200
TZOFFSETTO:+0100
TZNAME:CET
DTSTART:20271031T010000
END:STANDARD
END:VTIMEZONE
BEGIN:VEVENT
DTSTART;TZID=Europe/Madrid:20260711T000000
DTEND;TZID=Europe/Madrid:20260711T000000
DTSTAMP:20260423T025123
CREATED:20260422T170102Z
LAST-MODIFIED:20260422T170102Z
UID:3064-1783728000-1783728000@calendario.seriesboyslove.es
SUMMARY:CrazyLove-MooMoo EP10 Final
DESCRIPTION:Nombre: CrazyLove-MooMoo\nTipo: Drama\nFormat: Standard Series\nPaís: Tailandia\nEpisodios: 10\nAirs: may 9\, 2026 – jul 11\, 2026\nAirs On: Sábado\nClasificación del contenido: Sin calificar\n\nCuando el encantador y carismático Hia Fu intenta conquistar a MooMoo\, que anhela una vida normal\, se encuentra constantemente rodeado de las divertidas y traviesas travesuras de Hia Fu. ¿Qué trucos usará este enamorado Hia Fu para ganarse el corazón de MooMoo?
URL:https://calendario.seriesboyslove.es/event/crazylove-moomoo-ep1-8/
ATTACH;FMTTYPE=image/jpeg:https://calendario.seriesboyslove.es/wp-content/uploads/2026/04/CrazyLove-MooMoo.jpeg
END:VEVENT
END:VCALENDAR